BEGIN:VCALENDAR
VERSION:2.0
PRODID:-//a spot for creative events, across the 5 boroughs - ECPv6.15.17.1//NONSGML v1.0//EN
CALSCALE:GREGORIAN
METHOD:PUBLISH
X-WR-CALNAME:a spot for creative events, across the 5 boroughs
X-ORIGINAL-URL:https://nycshows.blog
X-WR-CALDESC:Events for a spot for creative events, across the 5 boroughs
REFRESH-INTERVAL;VALUE=DURATION:PT1H
X-Robots-Tag:noindex
X-PUBLISHED-TTL:PT1H
BEGIN:VTIMEZONE
TZID:America/New_York
BEGIN:DAYLIGHT
TZOFFSETFROM:-0500
TZOFFSETTO:-0400
TZNAME:EDT
DTSTART:20250309T070000
END:DAYLIGHT
BEGIN:STANDARD
TZOFFSETFROM:-0400
TZOFFSETTO:-0500
TZNAME:EST
DTSTART:20251102T060000
END:STANDARD
BEGIN:DAYLIGHT
TZOFFSETFROM:-0500
TZOFFSETTO:-0400
TZNAME:EDT
DTSTART:20260308T070000
END:DAYLIGHT
BEGIN:STANDARD
TZOFFSETFROM:-0400
TZOFFSETTO:-0500
TZNAME:EST
DTSTART:20261101T060000
END:STANDARD
BEGIN:DAYLIGHT
TZOFFSETFROM:-0500
TZOFFSETTO:-0400
TZNAME:EDT
DTSTART:20270314T070000
END:DAYLIGHT
BEGIN:STANDARD
TZOFFSETFROM:-0400
TZOFFSETTO:-0500
TZNAME:EST
DTSTART:20271107T060000
END:STANDARD
END:VTIMEZONE
BEGIN:VEVENT
DTSTART;TZID=America/New_York:20260408T183000
DTEND;TZID=America/New_York:20260408T220000
DTSTAMP:20260420T064208
CREATED:20260407T181150Z
LAST-MODIFIED:20260407T181150Z
UID:93-1775673000-1775685600@nycshows.blog
SUMMARY:Singer-Songwriter Showcase
DESCRIPTION:Singer-Songwriter Showcase is coming to WICKED WILLY’S!!! \nWe’re expanding to yet another legendary downtown space. \nThis show is entirely free for all artists & audience!
URL:https://nycshows.blog/event/singer-songwriter-showcase/
LOCATION:Wicked Willy’s\, 149 Bleecker St\, New York\, NY\, 10012\, United States
CATEGORIES:Music,Showcase
ORGANIZER;CN="Wes":MAILTO:HappyNoteNYC@gmail.com
END:VEVENT
BEGIN:VEVENT
DTSTART;TZID=America/New_York:20260409T183000
DTEND;TZID=America/New_York:20260409T203000
DTSTAMP:20260420T064208
CREATED:20260403T141916Z
LAST-MODIFIED:20260403T141916Z
UID:82-1775759400-1775766600@nycshows.blog
SUMMARY:Tarot Talk
DESCRIPTION:A monthly meet up on the second Thursday of the month for tarot readers where we read cards as a group\, trade readings\, and connect.
URL:https://nycshows.blog/event/tarot-talk/
LOCATION:QNS Collaboratory\, 21-07 41st Ave\, Queens\, NY\, 11102\, United States
END:VEVENT
END:VCALENDAR